BEGIN:VCALENDAR
VERSION:2.0
PRODID:-//Soul Line Dance Atlanta - ECPv6.0.4//NONSGML v1.0//EN
CALSCALE:GREGORIAN
METHOD:PUBLISH
X-ORIGINAL-URL:http://soullinedanceatlanta.com
X-WR-CALDESC:Events for Soul Line Dance Atlanta
REFRESH-INTERVAL;VALUE=DURATION:PT1H
X-Robots-Tag:noindex
X-PUBLISHED-TTL:PT1H
BEGIN:VTIMEZONE
TZID:America/New_York
BEGIN:DAYLIGHT
TZOFFSETFROM:-0500
TZOFFSETTO:-0400
TZNAME:EDT
DTSTART:20220313T070000
END:DAYLIGHT
BEGIN:STANDARD
TZOFFSETFROM:-0400
TZOFFSETTO:-0500
TZNAME:EST
DTSTART:20221106T060000
END:STANDARD
END:VTIMEZONE
BEGIN:VEVENT
DTSTART;TZID=America/New_York:20221227T193000
DTEND;TZID=America/New_York:20221227T210000
DTSTAMP:20260424T232824
CREATED:20221113T032827Z
LAST-MODIFIED:20221129T015237Z
UID:10003900-1672169400-1672174800@soullinedanceatlanta.com
SUMMARY:Line Dance Class @ Seaside Grill
DESCRIPTION:Class Description \nThis Class will focus primarily on beginner to intermediate soul line dances \nLine dancing provides exercise in disguise\, stress relief\, a way to improve health and have fun \nSuggested Attire \n\nComfortable\, Casual Clothing that allows for movement\nFootwear : Low heeled shoes\, dance shoes\, tennis shoes or cross trainers\n\n(Flip flops \,slides or mules are not recommended)\n\n\nWear a mask the covers the nose & mouth while near others
URL:http://soullinedanceatlanta.com/event/line-dance-class-seaside-grill/2022-12-27/
LOCATION:Seaside Grille of Lilburn\, 411 Beaver Ruin Rd\, Lilburn\, GA\, 30047\, United States
END:VEVENT
BEGIN:VEVENT
DTSTART;TZID=America/New_York:20221220T193000
DTEND;TZID=America/New_York:20221220T210000
DTSTAMP:20260424T232824
CREATED:20221113T032827Z
LAST-MODIFIED:20221129T015237Z
UID:10003899-1671564600-1671570000@soullinedanceatlanta.com
SUMMARY:Line Dance Class @ Seaside Grill
DESCRIPTION:Class Description \nThis Class will focus primarily on beginner to intermediate soul line dances \nLine dancing provides exercise in disguise\, stress relief\, a way to improve health and have fun \nSuggested Attire \n\nComfortable\, Casual Clothing that allows for movement\nFootwear : Low heeled shoes\, dance shoes\, tennis shoes or cross trainers\n\n(Flip flops \,slides or mules are not recommended)\n\n\nWear a mask the covers the nose & mouth while near others
URL:http://soullinedanceatlanta.com/event/line-dance-class-seaside-grill/2022-12-20/
LOCATION:Seaside Grille of Lilburn\, 411 Beaver Ruin Rd\, Lilburn\, GA\, 30047\, United States
END:VEVENT
BEGIN:VEVENT
DTSTART;TZID=America/New_York:20221213T193000
DTEND;TZID=America/New_York:20221213T210000
DTSTAMP:20260424T232824
CREATED:20221113T032827Z
LAST-MODIFIED:20221129T015237Z
UID:10003898-1670959800-1670965200@soullinedanceatlanta.com
SUMMARY:Line Dance Class @ Seaside Grill
DESCRIPTION:Class Description \nThis Class will focus primarily on beginner to intermediate soul line dances \nLine dancing provides exercise in disguise\, stress relief\, a way to improve health and have fun \nSuggested Attire \n\nComfortable\, Casual Clothing that allows for movement\nFootwear : Low heeled shoes\, dance shoes\, tennis shoes or cross trainers\n\n(Flip flops \,slides or mules are not recommended)\n\n\nWear a mask the covers the nose & mouth while near others
URL:http://soullinedanceatlanta.com/event/line-dance-class-seaside-grill/2022-12-13/
LOCATION:Seaside Grille of Lilburn\, 411 Beaver Ruin Rd\, Lilburn\, GA\, 30047\, United States
END:VEVENT
BEGIN:VEVENT
DTSTART;TZID=America/New_York:20221206T193000
DTEND;TZID=America/New_York:20221206T210000
DTSTAMP:20260424T232824
CREATED:20221113T032827Z
LAST-MODIFIED:20221129T015237Z
UID:10003897-1670355000-1670360400@soullinedanceatlanta.com
SUMMARY:Line Dance Class @ Seaside Grill
DESCRIPTION:Class Description \nThis Class will focus primarily on beginner to intermediate soul line dances \nLine dancing provides exercise in disguise\, stress relief\, a way to improve health and have fun \nSuggested Attire \n\nComfortable\, Casual Clothing that allows for movement\nFootwear : Low heeled shoes\, dance shoes\, tennis shoes or cross trainers\n\n(Flip flops \,slides or mules are not recommended)\n\n\nWear a mask the covers the nose & mouth while near others
URL:http://soullinedanceatlanta.com/event/line-dance-class-seaside-grill/2022-12-06/
LOCATION:Seaside Grille of Lilburn\, 411 Beaver Ruin Rd\, Lilburn\, GA\, 30047\, United States
END:VEVENT
BEGIN:VEVENT
DTSTART;TZID=America/New_York:20221129T193000
DTEND;TZID=America/New_York:20221129T210000
DTSTAMP:20260424T232824
CREATED:20221113T032827Z
LAST-MODIFIED:20221129T015237Z
UID:10003896-1669750200-1669755600@soullinedanceatlanta.com
SUMMARY:Line Dance Class @ Seaside Grill
DESCRIPTION:Class Description \nThis Class will focus primarily on beginner to intermediate soul line dances \nLine dancing provides exercise in disguise\, stress relief\, a way to improve health and have fun \nSuggested Attire \n\nComfortable\, Casual Clothing that allows for movement\nFootwear : Low heeled shoes\, dance shoes\, tennis shoes or cross trainers\n\n(Flip flops \,slides or mules are not recommended)\n\n\nWear a mask the covers the nose & mouth while near others
URL:http://soullinedanceatlanta.com/event/line-dance-class-seaside-grill/2022-11-29/
LOCATION:Seaside Grille of Lilburn\, 411 Beaver Ruin Rd\, Lilburn\, GA\, 30047\, United States
END:VEVENT
BEGIN:VEVENT
DTSTART;TZID=America/New_York:20221122T193000
DTEND;TZID=America/New_York:20221122T210000
DTSTAMP:20260424T232824
CREATED:20221113T032827Z
LAST-MODIFIED:20221129T015237Z
UID:10003888-1669145400-1669150800@soullinedanceatlanta.com
SUMMARY:Line Dance Class @ Seaside Grill
DESCRIPTION:Class Description \nThis Class will focus primarily on beginner to intermediate soul line dances \nLine dancing provides exercise in disguise\, stress relief\, a way to improve health and have fun \nSuggested Attire \n\nComfortable\, Casual Clothing that allows for movement\nFootwear : Low heeled shoes\, dance shoes\, tennis shoes or cross trainers\n\n(Flip flops \,slides or mules are not recommended)\n\n\nWear a mask the covers the nose & mouth while near others
URL:http://soullinedanceatlanta.com/event/line-dance-class-seaside-grill/2022-11-22/
LOCATION:Seaside Grille of Lilburn\, 411 Beaver Ruin Rd\, Lilburn\, GA\, 30047\, United States
END:VEVENT
END:VCALENDAR