BEGIN:VCALENDAR
VERSION:2.0
PRODID:-//Soul Line Dance Atlanta - ECPv6.0.4//NONSGML v1.0//EN
CALSCALE:GREGORIAN
METHOD:PUBLISH
X-WR-CALNAME:Soul Line Dance Atlanta
X-ORIGINAL-URL:http://soullinedanceatlanta.com
X-WR-CALDESC:Events for Soul Line Dance Atlanta
REFRESH-INTERVAL;VALUE=DURATION:PT1H
X-Robots-Tag:noindex
X-PUBLISHED-TTL:PT1H
BEGIN:VTIMEZONE
TZID:America/New_York
BEGIN:DAYLIGHT
TZOFFSETFROM:-0500
TZOFFSETTO:-0400
TZNAME:EDT
DTSTART:20220313T070000
END:DAYLIGHT
BEGIN:STANDARD
TZOFFSETFROM:-0400
TZOFFSETTO:-0500
TZNAME:EST
DTSTART:20221106T060000
END:STANDARD
BEGIN:DAYLIGHT
TZOFFSETFROM:-0500
TZOFFSETTO:-0400
TZNAME:EDT
DTSTART:20230312T070000
END:DAYLIGHT
BEGIN:STANDARD
TZOFFSETFROM:-0400
TZOFFSETTO:-0500
TZNAME:EST
DTSTART:20231105T060000
END:STANDARD
END:VTIMEZONE
BEGIN:VEVENT
DTSTART;TZID=America/New_York:20221112T120000
DTEND;TZID=America/New_York:20221112T140000
DTSTAMP:20260419T113710
CREATED:20221112T162407Z
LAST-MODIFIED:20221112T162931Z
UID:10003621-1668254400-1668261600@soullinedanceatlanta.com
SUMMARY:Soul Line Dance with Tina T
DESCRIPTION:Come in and tap your feet to the beat! Wear comfortable clothing and footwear\, bring a towel and water. We will have fun meet new friends and learn some great dances!\n\n\n \n\n\n$10 per class drop-in fee at the door.
URL:http://soullinedanceatlanta.com/event/soul-line-dance-with-tina-t-3/2022-11-12/
LOCATION:For the Health of it Fitness Center\, 100 Hurricane Shoals Rd N.W. Suite S\, Lawrenceville\, GA\, 30046\, United States
END:VEVENT
BEGIN:VEVENT
DTSTART;TZID=America/New_York:20221119T120000
DTEND;TZID=America/New_York:20221119T140000
DTSTAMP:20260419T113710
CREATED:20221112T162407Z
LAST-MODIFIED:20221112T162931Z
UID:10003622-1668859200-1668866400@soullinedanceatlanta.com
SUMMARY:Soul Line Dance with Tina T
DESCRIPTION:Come in and tap your feet to the beat! Wear comfortable clothing and footwear\, bring a towel and water. We will have fun meet new friends and learn some great dances!\n\n\n \n\n\n$10 per class drop-in fee at the door.
URL:http://soullinedanceatlanta.com/event/soul-line-dance-with-tina-t-3/2022-11-19/
LOCATION:For the Health of it Fitness Center\, 100 Hurricane Shoals Rd N.W. Suite S\, Lawrenceville\, GA\, 30046\, United States
END:VEVENT
BEGIN:VEVENT
DTSTART;TZID=America/New_York:20221126T120000
DTEND;TZID=America/New_York:20221126T140000
DTSTAMP:20260419T113710
CREATED:20221112T162407Z
LAST-MODIFIED:20221112T162931Z
UID:10003623-1669464000-1669471200@soullinedanceatlanta.com
SUMMARY:Soul Line Dance with Tina T
DESCRIPTION:Come in and tap your feet to the beat! Wear comfortable clothing and footwear\, bring a towel and water. We will have fun meet new friends and learn some great dances!\n\n\n \n\n\n$10 per class drop-in fee at the door.
URL:http://soullinedanceatlanta.com/event/soul-line-dance-with-tina-t-3/2022-11-26/
LOCATION:For the Health of it Fitness Center\, 100 Hurricane Shoals Rd N.W. Suite S\, Lawrenceville\, GA\, 30046\, United States
END:VEVENT
BEGIN:VEVENT
DTSTART;TZID=America/New_York:20221203T120000
DTEND;TZID=America/New_York:20221203T140000
DTSTAMP:20260419T113710
CREATED:20221112T162407Z
LAST-MODIFIED:20221112T162931Z
UID:10003624-1670068800-1670076000@soullinedanceatlanta.com
SUMMARY:Soul Line Dance with Tina T
DESCRIPTION:Come in and tap your feet to the beat! Wear comfortable clothing and footwear\, bring a towel and water. We will have fun meet new friends and learn some great dances!\n\n\n \n\n\n$10 per class drop-in fee at the door.
URL:http://soullinedanceatlanta.com/event/soul-line-dance-with-tina-t-3/2022-12-03/
LOCATION:For the Health of it Fitness Center\, 100 Hurricane Shoals Rd N.W. Suite S\, Lawrenceville\, GA\, 30046\, United States
END:VEVENT
BEGIN:VEVENT
DTSTART;TZID=America/New_York:20221210T120000
DTEND;TZID=America/New_York:20221210T140000
DTSTAMP:20260419T113710
CREATED:20221112T162407Z
LAST-MODIFIED:20221112T162931Z
UID:10003625-1670673600-1670680800@soullinedanceatlanta.com
SUMMARY:Soul Line Dance with Tina T
DESCRIPTION:Come in and tap your feet to the beat! Wear comfortable clothing and footwear\, bring a towel and water. We will have fun meet new friends and learn some great dances!\n\n\n \n\n\n$10 per class drop-in fee at the door.
URL:http://soullinedanceatlanta.com/event/soul-line-dance-with-tina-t-3/2022-12-10/
LOCATION:For the Health of it Fitness Center\, 100 Hurricane Shoals Rd N.W. Suite S\, Lawrenceville\, GA\, 30046\, United States
END:VEVENT
BEGIN:VEVENT
DTSTART;TZID=America/New_York:20221217T120000
DTEND;TZID=America/New_York:20221217T140000
DTSTAMP:20260419T113710
CREATED:20221112T162407Z
LAST-MODIFIED:20221112T162931Z
UID:10003626-1671278400-1671285600@soullinedanceatlanta.com
SUMMARY:Soul Line Dance with Tina T
DESCRIPTION:Come in and tap your feet to the beat! Wear comfortable clothing and footwear\, bring a towel and water. We will have fun meet new friends and learn some great dances!\n\n\n \n\n\n$10 per class drop-in fee at the door.
URL:http://soullinedanceatlanta.com/event/soul-line-dance-with-tina-t-3/2022-12-17/
LOCATION:For the Health of it Fitness Center\, 100 Hurricane Shoals Rd N.W. Suite S\, Lawrenceville\, GA\, 30046\, United States
END:VEVENT
BEGIN:VEVENT
DTSTART;TZID=America/New_York:20221224T120000
DTEND;TZID=America/New_York:20221224T140000
DTSTAMP:20260419T113710
CREATED:20221112T162407Z
LAST-MODIFIED:20221112T162931Z
UID:10003627-1671883200-1671890400@soullinedanceatlanta.com
SUMMARY:Soul Line Dance with Tina T
DESCRIPTION:Come in and tap your feet to the beat! Wear comfortable clothing and footwear\, bring a towel and water. We will have fun meet new friends and learn some great dances!\n\n\n \n\n\n$10 per class drop-in fee at the door.
URL:http://soullinedanceatlanta.com/event/soul-line-dance-with-tina-t-3/2022-12-24/
LOCATION:For the Health of it Fitness Center\, 100 Hurricane Shoals Rd N.W. Suite S\, Lawrenceville\, GA\, 30046\, United States
END:VEVENT
BEGIN:VEVENT
DTSTART;TZID=America/New_York:20221231T120000
DTEND;TZID=America/New_York:20221231T140000
DTSTAMP:20260419T113710
CREATED:20221112T162407Z
LAST-MODIFIED:20221112T162931Z
UID:10003628-1672488000-1672495200@soullinedanceatlanta.com
SUMMARY:Soul Line Dance with Tina T
DESCRIPTION:Come in and tap your feet to the beat! Wear comfortable clothing and footwear\, bring a towel and water. We will have fun meet new friends and learn some great dances!\n\n\n \n\n\n$10 per class drop-in fee at the door.
URL:http://soullinedanceatlanta.com/event/soul-line-dance-with-tina-t-3/2022-12-31/
LOCATION:For the Health of it Fitness Center\, 100 Hurricane Shoals Rd N.W. Suite S\, Lawrenceville\, GA\, 30046\, United States
END:VEVENT
BEGIN:VEVENT
DTSTART;TZID=America/New_York:20230107T120000
DTEND;TZID=America/New_York:20230107T140000
DTSTAMP:20260419T113710
CREATED:20221112T162407Z
LAST-MODIFIED:20221112T162931Z
UID:10003629-1673092800-1673100000@soullinedanceatlanta.com
SUMMARY:Soul Line Dance with Tina T
DESCRIPTION:Come in and tap your feet to the beat! Wear comfortable clothing and footwear\, bring a towel and water. We will have fun meet new friends and learn some great dances!\n\n\n \n\n\n$10 per class drop-in fee at the door.
URL:http://soullinedanceatlanta.com/event/soul-line-dance-with-tina-t-3/2023-01-07/
LOCATION:For the Health of it Fitness Center\, 100 Hurricane Shoals Rd N.W. Suite S\, Lawrenceville\, GA\, 30046\, United States
END:VEVENT
BEGIN:VEVENT
DTSTART;TZID=America/New_York:20230114T120000
DTEND;TZID=America/New_York:20230114T140000
DTSTAMP:20260419T113710
CREATED:20221112T162407Z
LAST-MODIFIED:20221112T162931Z
UID:10003630-1673697600-1673704800@soullinedanceatlanta.com
SUMMARY:Soul Line Dance with Tina T
DESCRIPTION:Come in and tap your feet to the beat! Wear comfortable clothing and footwear\, bring a towel and water. We will have fun meet new friends and learn some great dances!\n\n\n \n\n\n$10 per class drop-in fee at the door.
URL:http://soullinedanceatlanta.com/event/soul-line-dance-with-tina-t-3/2023-01-14/
LOCATION:For the Health of it Fitness Center\, 100 Hurricane Shoals Rd N.W. Suite S\, Lawrenceville\, GA\, 30046\, United States
END:VEVENT
BEGIN:VEVENT
DTSTART;TZID=America/New_York:20230121T120000
DTEND;TZID=America/New_York:20230121T140000
DTSTAMP:20260419T113710
CREATED:20221112T162407Z
LAST-MODIFIED:20221112T162931Z
UID:10003631-1674302400-1674309600@soullinedanceatlanta.com
SUMMARY:Soul Line Dance with Tina T
DESCRIPTION:Come in and tap your feet to the beat! Wear comfortable clothing and footwear\, bring a towel and water. We will have fun meet new friends and learn some great dances!\n\n\n \n\n\n$10 per class drop-in fee at the door.
URL:http://soullinedanceatlanta.com/event/soul-line-dance-with-tina-t-3/2023-01-21/
LOCATION:For the Health of it Fitness Center\, 100 Hurricane Shoals Rd N.W. Suite S\, Lawrenceville\, GA\, 30046\, United States
END:VEVENT
BEGIN:VEVENT
DTSTART;TZID=America/New_York:20230128T120000
DTEND;TZID=America/New_York:20230128T140000
DTSTAMP:20260419T113710
CREATED:20221112T162407Z
LAST-MODIFIED:20221112T162931Z
UID:10003632-1674907200-1674914400@soullinedanceatlanta.com
SUMMARY:Soul Line Dance with Tina T
DESCRIPTION:Come in and tap your feet to the beat! Wear comfortable clothing and footwear\, bring a towel and water. We will have fun meet new friends and learn some great dances!\n\n\n \n\n\n$10 per class drop-in fee at the door.
URL:http://soullinedanceatlanta.com/event/soul-line-dance-with-tina-t-3/2023-01-28/
LOCATION:For the Health of it Fitness Center\, 100 Hurricane Shoals Rd N.W. Suite S\, Lawrenceville\, GA\, 30046\, United States
END:VEVENT
END:VCALENDAR